BEGIN:VCALENDAR
VERSION:2.0
PRODID:-//ExpressionEngine Easy iCalendar plugin//NONSGML v2.0.1//EN
X-WR-TIMEZONE:America/Chicago
X-WR-CALNAME:Upcoming Auctions
BEGIN:VEVENT
UID:161102
DTSTAMP:20260429T180000
DTSTART:20260429T180000
DTEND:20260520T190000
SUMMARY:CDS Equipment XXVI
LOCATION:4880 Yale Ave\, New Germany\, MN 55367\, US
DESCRIPTION:Here is the twenty sixth lawn tractor salvage yard micro auc
 tion. These liquidation events will feature many John Deere 
 425\, 445\, 318\, 420\, 400\, and other older garden tractors\, en
 gines and attachments. There will also be some other related
  lawn mower parts and equipment.
URL:https://www.mnauction.com/auctions/detail/bw161102
SEQUENCE:1
END:VEVENT
END:VCALENDAR